BEGIN:VCALENDAR
VERSION:2.0
PRODID:-//Italian Studies - ECPv6.15.16//NONSGML v1.0//EN
CALSCALE:GREGORIAN
METHOD:PUBLISH
X-WR-CALNAME:Italian Studies
X-ORIGINAL-URL:https://italianstudies.princeton.edu
X-WR-CALDESC:Events for Italian Studies
REFRESH-INTERVAL;VALUE=DURATION:PT1H
X-Robots-Tag:noindex
X-PUBLISHED-TTL:PT1H
BEGIN:VTIMEZONE
TZID:America/New_York
BEGIN:DAYLIGHT
TZOFFSETFROM:-0500
TZOFFSETTO:-0400
TZNAME:EDT
DTSTART:20180311T070000
END:DAYLIGHT
BEGIN:STANDARD
TZOFFSETFROM:-0400
TZOFFSETTO:-0500
TZNAME:EST
DTSTART:20181104T060000
END:STANDARD
BEGIN:DAYLIGHT
TZOFFSETFROM:-0500
TZOFFSETTO:-0400
TZNAME:EDT
DTSTART:20190310T070000
END:DAYLIGHT
BEGIN:STANDARD
TZOFFSETFROM:-0400
TZOFFSETTO:-0500
TZNAME:EST
DTSTART:20191103T060000
END:STANDARD
BEGIN:DAYLIGHT
TZOFFSETFROM:-0500
TZOFFSETTO:-0400
TZNAME:EDT
DTSTART:20200308T070000
END:DAYLIGHT
BEGIN:STANDARD
TZOFFSETFROM:-0400
TZOFFSETTO:-0500
TZNAME:EST
DTSTART:20201101T060000
END:STANDARD
END:VTIMEZONE
BEGIN:VEVENT
DTSTART;TZID=America/New_York:20190307T163000
DTEND;TZID=America/New_York:20190307T180000
DTSTAMP:20260424T055740
CREATED:20190301T195051Z
LAST-MODIFIED:20190301T195051Z
UID:10000142-1551976200-1551981600@italianstudies.princeton.edu
SUMMARY:A Welcome Gathering
DESCRIPTION:Join us to learn more about the Program in Italian Studies\, which offers students in humanistic departments a chance to deepen their knowledge\, in their own discipline\, of Italian civilization; it fosters interdisciplinary study among students and faculty members who have an interest in ancient\, early modern\, and modern Italian studies and culture. The Program sponsors a lecture series\, graduate student symposia\, and a Graduate Certificate in Italian Studies. \nRefreshments will be provided.
URL:https://italianstudies.princeton.edu/event/a-welcome-gathering/
LOCATION:16 Joseph Henry House
ATTACH;FMTTYPE=image/jpeg:https://italianstudies.princeton.edu/wp-content/uploads/sites/2/2019/03/ambrogio_lorenzetti_-_effects_of_good_government_in_the_city_.jpg
END:VEVENT
END:VCALENDAR